BEGIN:VCALENDAR
VERSION:2.0
BEGIN:VEVENT
URL:https://suzukiownersclub.co.uk/diary-of-events-2/viewevent/161-fat-skeleton-blues-bikes-week-end-cabourne-parva 
DTSTART:%2014%04%04GMT%00%Apr%th
DTEND:%2014%04%06GMT%23%Apr%th
SUMMARY:Fat Skeleton Blues & Bikes Week-end: Cabourne Parva   
DESCRIPTION:http://www.bluesandbikesweekend.co.uk/
Club stand will be here all weekend.  Come along and support Youth Bike - the next generation of motorcyclists.
LOCATION:Cabourne Parva, Lincolnshire
END:VEVENT
END:VCALENDAR