BEGIN:VCALENDAR
VERSION:2.0
BEGIN:VEVENT
URL:https://suzukiownersclub.co.uk/diary-of-events-2/viewevent/160-coventry-transport-museum-ride-out 
DTSTART:%2014%02%09GMT%09%Feb%th
DTEND:%2014%02%09GMT%16%Feb%th
SUMMARY:Coventry Transport Museum Ride Out
DESCRIPTION:More info:  kenneth.read4@ntlworld.com or  alby.white@ntlworld.com  or ring Alby White on 07762242309
http://www.transport-museum.com/
LOCATION:East Midlands
END:VEVENT
END:VCALENDAR