BEGIN:VCALENDAR
VERSION:2.0
BEGIN:VEVENT
URL:https://suzukiownersclub.co.uk/diary-of-events-2/viewevent/159-ride-to-tanworth-in-arden-mike-hailwoods-grave 
DTSTART:%2014%01%19GMT%09%Jan%th
DTEND:%2014%01%19GMT%16%Jan%th
SUMMARY:Ride to Tanworth-in-Arden (Mike Hailwoods grave)
DESCRIPTION:The East Mids Centre are having a ride out to Tanworth-in-Arden to the grave of the late Mike Hailwood, then on to Stratford.  Meeting at McDonald's at the Jn of the A38/A52 Markeaton Island, Derby from 9:30, leaving @ 10:00. More info please e-mail alby.white@ntlworld.com or mob 07762242309
LOCATION:East Midlands
END:VEVENT
END:VCALENDAR