BEGIN:VCALENDAR
VERSION:2.0
BEGIN:VEVENT
URL:https://suzukiownersclub.co.uk/diary-of-events-2/viewevent/158-carole-nash-classic-bike-guide-winter-classic-show-newark 
DTSTART:%2014%01%04GMT%00%Jan%th
DTEND:%2014%01%05GMT%23%Jan%th
SUMMARY:Carole Nash Classic Bike Guide Winter Classic Show - Newark
DESCRIPTION:We are pleased to announce the return of the event that kick starts the New Year for classic bike enthusiasts. Hundreds of beautiful classic and custom bikes to admire with a healthy mix of trade stalls, dealers and autojumble plots too – the perfect place to grab some inspiration and a boxful of parts to get your project finished in plenty of time for summer. Brought to you by the organisers that brought you superb shows in Stafford and Bristol, The Carole Nash Classic Bike Guide Winter Classic Show is one place you'll certainly get a warm reception and enjoy a warm glow in the post-Christmas period, as it will be held almost entirely indoors at the Newark Showground. Camping for those who want to !!
LOCATION:East Midlands
END:VEVENT
END:VCALENDAR