BEGIN:VCALENDAR
VERSION:2.0
BEGIN:VEVENT
URL:https://suzukiownersclub.co.uk/diary-of-events-2/viewevent/156-brunch-at-nelsons-diner 
DTSTART:%2013%11%16GMT%10%Nov%th
DTEND:%2013%11%16GMT%14%Nov%th
SUMMARY:Brunch at Nelsons Diner
DESCRIPTION:www.nelsonsdiner.co.uk/
LOCATION:South Coast
END:VEVENT
END:VCALENDAR