BEGIN:VCALENDAR
VERSION:2.0
BEGIN:VEVENT
URL:https://suzukiownersclub.co.uk/diary-of-events-2/viewevent/136-nc-meeting 
DTSTART:%2013%08%26GMT%11%Aug%th
DTEND:%2013%08%26GMT%14%Aug%th
SUMMARY:NC Meeting
DESCRIPTION:
LOCATION:England's Rose London Road Postcombe Oxfordshire OX9 7DP 
END:VEVENT
END:VCALENDAR