BEGIN:VCALENDAR
VERSION:2.0
BEGIN:VEVENT
URL:https://suzukiownersclub.co.uk/diary-of-events-2/viewevent/135-london-centre-camping-weekend-rideout-windsor 
DTSTART:%2013%08%25GMT%10%Aug%th
DTEND:%2013%08%25GMT%17%Aug%th
SUMMARY:London Centre Camping Weekend Rideout - Windsor
DESCRIPTION:England's Rose
London Road
Postcombe
Oxfordshire
OX9 7DP
LOCATION:England's Rose, London Rd, Postcombe,OX9 7DP
END:VEVENT
END:VCALENDAR