BEGIN:VCALENDAR
VERSION:2.0
BEGIN:VEVENT
URL:https://suzukiownersclub.co.uk/diary-of-events-2/viewevent/133-thundersprint 
DTSTART:%2014%05%10GMT%00%May%th
DTEND:%2014%05%11GMT%23%May%th
SUMMARY:Thundersprint
DESCRIPTION:http://www.thundersprint.com
Come along and spend the weekend watching some classic bike racing at The Thundersprint.  Following the success of holding the Thundersprint at the Anglesey Circuit in May, plans are already well underway for 2014. Next year the event is going to take place in Derbyshire at the Darley Moor Motor Sport Centre. Located in the centre of the country it will be the prefect location for a great weekend of classic racing on a beautiful track located in stunning parklands (and yet just 20 miles off the M1).  Tickets are just £5 for a weekend spectator pass & £15 for a weekend camping pass.  They are on sale now through the Thundersprint website:  www.thundersprint.com
LOCATION:Darley Moor Circuit Derbyshire, DE6 2ET
END:VEVENT
END:VCALENDAR