BEGIN:VCALENDAR
VERSION:2.0
BEGIN:VEVENT
URL:https://suzukiownersclub.co.uk/diary-of-events-2/viewevent/130-brighton-burn-up 
DTSTART:%2013%09%15GMT%00%Sep%th
DTEND:%2013%09%15GMT%23%Sep%th
SUMMARY:Brighton Burn Up
DESCRIPTION:
LOCATION:Brighton
END:VEVENT
END:VCALENDAR