BEGIN:VCALENDAR
VERSION:2.0
BEGIN:VEVENT
URL:https://suzukiownersclub.co.uk/diary-of-events-2/viewevent/129-bank-hoilday-in-the-lakes 
DTSTART:%2013%08%25GMT%09%Aug%th
DTEND:%2013%08%25GMT%18%Aug%th
SUMMARY:Bank Hoilday in the Lakes
DESCRIPTION:Meet at Bowburn services for 9.30 leaving 10am prompt. This is NOT an AT event due to the short notice.
LOCATION:Bowburn Services DH6 5NP
END:VEVENT
END:VCALENDAR