BEGIN:VCALENDAR
VERSION:2.0
BEGIN:VEVENT
URL:https://suzukiownersclub.co.uk/diary-of-events-2/viewevent/128-popham-airfield-hosts-their-megameet 
DTSTART:%2013%08%18GMT%09%Aug%th
DTEND:%2013%08%18GMT%17%Aug%th
SUMMARY:Popham Airfield hosts their MegaMeet
DESCRIPTION:
LOCATION:South Coast
END:VEVENT
END:VCALENDAR