BEGIN:VCALENDAR
VERSION:2.0
BEGIN:VEVENT
URL:https://suzukiownersclub.co.uk/diary-of-events-2/viewevent/113-billing-biker-bash 
DTSTART:%2013%06%29GMT%00%Jun%th
DTEND:%2013%06%30GMT%23%Jun%th
SUMMARY:Billing Biker Bash
DESCRIPTION:SOC Stand & East Mids Centre SOC will be there all weekend.  Come along and say Hello 
On Saturday evening there will be FREE evening entertainment, with Dave Evans the original AC/DC Singer celebrating 40 years of AC/DC.
Joining him will be Wrathchild, Fifteen English Pounds, Wizard of Oz and Hangfire so be prepared for a Rockin good time.
With camping available onsite you can really enjoy the weekend and relax, meet up with friends and make new ones.
• Trade Stands
• Club Displays
• Action Packed Main Arena
• Fantastic Displays and Demonstrations
• Burn Out Strip
• Tattoo Studio
• Plenty of competitions with Trophies up for Grabs
• Live Bands
• Wall of Death
• Stunt Team
• Bar & Caterers
• Onsite Camping
• For sale area – Bring along your bikes for sale and place in the designated for sale area
LOCATION:Billing Aquadrome, Northampton NN3 9DA 
END:VEVENT
END:VCALENDAR