BEGIN:VCALENDAR
VERSION:2.0
BEGIN:VEVENT
URL:https://suzukiownersclub.co.uk/diary-of-events-2/viewevent/111-easter-in-belgium-2014 
DTSTART:%2014%04%18GMT%00%Apr%th
DTEND:%2014%04%21GMT%23%Apr%st
SUMMARY:Easter in Belgium 2014
DESCRIPTION:Kortrijk is located if the Flemish province of West Flanders on the River Leie, 26 miles southwest of Ghent and 16 miles northeast of Lille in France. The City dates back to Roman times but grew rapidly thanks to wool and flax trading with France and England.
Much of the cities medieval architecture remains intact and is remarkably well preserved. The city centre is one of the largest carfree areas in Belgium.
LOCATION:Kortrijk, Belgium
END:VEVENT
END:VCALENDAR