BEGIN:VCALENDAR
VERSION:2.0
BEGIN:VEVENT
URL:https://suzukiownersclub.co.uk/diary-of-events-2/viewevent/110-distington-vintage-rally 
DTSTART:%2013%07%07GMT%10%Jul%th
DTEND:%2013%07%07GMT%16%Jul%th
SUMMARY:Distington Vintage Rally
DESCRIPTION:Members of the Cumbria Centre will be at this event with a club stand.  Pop along and say hello.  Start time 10.30am Sunday till around 4-5pm
LOCATION:Cumbria
END:VEVENT
END:VCALENDAR