BEGIN:VCALENDAR
VERSION:2.0
BEGIN:VEVENT
URL:https://suzukiownersclub.co.uk/diary-of-events-2/viewevent/108-eastern-camping-weekend 
DTSTART:%2013%07%05GMT%00%Jul%th
DTEND:%2013%07%07GMT%23%Jul%th
SUMMARY:Eastern Camping Weekend
DESCRIPTION:White Hourse Edwardstone, Suffolk
www.edwardstonewhitehorse.co.uk/
Pitches are £7 per night
Motorhomes and vans are £14 per night for 2 with any extra persons being £7 per night.
There are showers and toilet facilities onsite.
Real ale and real ciders, The pub has its own micro brewery
See White Horse web site for further details.
LOCATION:Eastern
END:VEVENT
END:VCALENDAR