BEGIN:VCALENDAR
VERSION:2.0
BEGIN:VEVENT
URL:https://suzukiownersclub.co.uk/diary-of-events-2/viewevent/107-foxfield-camping-weekend 
DTSTART:%2013%06%07GMT%00%Jun%th
DTEND:%2013%06%09GMT%23%Jun%th
SUMMARY:Foxfield Camping Weekend
DESCRIPTION:Camping is available in the field at the rear of the pub - there is a band booked for the weekend so no rooms are available at the pub.
More information contact Ron Crawford:  01946815600
http://www.princeofwalesfoxfield.co.uk
LOCATION:Prince of Wales, Foxfield Broughton-in-Furness,  Cumbria, LA20 6BX
END:VEVENT
END:VCALENDAR