BEGIN:VCALENDAR
VERSION:2.0
BEGIN:VEVENT
URL:https://suzukiownersclub.co.uk/diary-of-events-2/viewevent/106-goodwood-us-fly-in 
DTSTART:%2013%06%15GMT%00%Jun%th
DTEND:%2013%06%15GMT%23%Jun%th
SUMMARY:Goodwood US Fly-in
DESCRIPTION:More details to follow.
LOCATION:South Coast
END:VEVENT
END:VCALENDAR