BEGIN:VCALENDAR
VERSION:2.0
BEGIN:VEVENT
URL:https://suzukiownersclub.co.uk/diary-of-events-2/viewevent/105-ride-out-to-sammy-miller-s-motorcycle-museum-new-forest 
DTSTART:%2013%06%09GMT%00%Jun%th
DTEND:%2013%06%09GMT%23%Jun%th
SUMMARY:Ride out to Sammy Miller's Motorcycle Museum, New Forest
DESCRIPTION:We will be riding out to Sammy Miller's Motorcycle Museum and meeting up with other bikers.
Meet at Rownhams Services Westbound at 10 am and setting off not long after for a half hour ride out to the forest and Sammy Millers Motorcycle Museum. Enjoy a look around and a coffee in the cafe.
Please let Laura D know if you are coming or are going to meet us there and I will give you a contact number for the day.
LOCATION:South Coast
END:VEVENT
END:VCALENDAR